BEGIN:VCALENDAR
VERSION:2.0
PRODID:-//Ottawa Guild of Potters - ECPv6.15.20//NONSGML v1.0//EN
CALSCALE:GREGORIAN
METHOD:PUBLISH
X-WR-CALNAME:Ottawa Guild of Potters
X-ORIGINAL-URL:https://ottawaguildofpotters.ca
X-WR-CALDESC:Events for Ottawa Guild of Potters
REFRESH-INTERVAL;VALUE=DURATION:PT1H
X-Robots-Tag:noindex
X-PUBLISHED-TTL:PT1H
BEGIN:VTIMEZONE
TZID:America/Toronto
BEGIN:DAYLIGHT
TZOFFSETFROM:-0500
TZOFFSETTO:-0400
TZNAME:EDT
DTSTART:20240310T070000
END:DAYLIGHT
BEGIN:STANDARD
TZOFFSETFROM:-0400
TZOFFSETTO:-0500
TZNAME:EST
DTSTART:20241103T060000
END:STANDARD
BEGIN:DAYLIGHT
TZOFFSETFROM:-0500
TZOFFSETTO:-0400
TZNAME:EDT
DTSTART:20250309T070000
END:DAYLIGHT
BEGIN:STANDARD
TZOFFSETFROM:-0400
TZOFFSETTO:-0500
TZNAME:EST
DTSTART:20251102T060000
END:STANDARD
BEGIN:DAYLIGHT
TZOFFSETFROM:-0500
TZOFFSETTO:-0400
TZNAME:EDT
DTSTART:20260308T070000
END:DAYLIGHT
BEGIN:STANDARD
TZOFFSETFROM:-0400
TZOFFSETTO:-0500
TZNAME:EST
DTSTART:20261101T060000
END:STANDARD
END:VTIMEZONE
BEGIN:VEVENT
DTSTART;TZID=America/Toronto:20250920T090000
DTEND;TZID=America/Toronto:20250921T160000
DTSTAMP:20260424T012518
CREATED:20250825T151412Z
LAST-MODIFIED:20250827T200455Z
UID:7431-1758358800-1758470400@ottawaguildofpotters.ca
SUMMARY:Kiefer Floreal - Throwing Large (LOAM Studio)
DESCRIPTION:Kiefer Floreal – Throwing Large – Two workshops\, one day duration each. (LOAM Studio)
URL:https://ottawaguildofpotters.ca/event/7431/
LOCATION:Loam Studio\, Ottawa\, 131 Loretta Ave N\, Ottawa\, Ontario\, K1Y 2J7
CATEGORIES:Workshop
END:VEVENT
END:VCALENDAR