BEGIN:VCALENDAR
VERSION:2.0
PRODID:-//Ottawa Guild of Potters - ECPv6.15.20//NONSGML v1.0//EN
CALSCALE:GREGORIAN
METHOD:PUBLISH
X-WR-CALNAME:Ottawa Guild of Potters
X-ORIGINAL-URL:https://ottawaguildofpotters.ca
X-WR-CALDESC:Events for Ottawa Guild of Potters
REFRESH-INTERVAL;VALUE=DURATION:PT1H
X-Robots-Tag:noindex
X-PUBLISHED-TTL:PT1H
BEGIN:VTIMEZONE
TZID:America/Toronto
BEGIN:DAYLIGHT
TZOFFSETFROM:-0500
TZOFFSETTO:-0400
TZNAME:EDT
DTSTART:20240310T070000
END:DAYLIGHT
BEGIN:STANDARD
TZOFFSETFROM:-0400
TZOFFSETTO:-0500
TZNAME:EST
DTSTART:20241103T060000
END:STANDARD
BEGIN:DAYLIGHT
TZOFFSETFROM:-0500
TZOFFSETTO:-0400
TZNAME:EDT
DTSTART:20250309T070000
END:DAYLIGHT
BEGIN:STANDARD
TZOFFSETFROM:-0400
TZOFFSETTO:-0500
TZNAME:EST
DTSTART:20251102T060000
END:STANDARD
BEGIN:DAYLIGHT
TZOFFSETFROM:-0500
TZOFFSETTO:-0400
TZNAME:EDT
DTSTART:20260308T070000
END:DAYLIGHT
BEGIN:STANDARD
TZOFFSETFROM:-0400
TZOFFSETTO:-0500
TZNAME:EST
DTSTART:20261101T060000
END:STANDARD
END:VTIMEZONE
BEGIN:VEVENT
DTSTART;VALUE=DATE:20250905
DTEND;VALUE=DATE:20250906
DTSTAMP:20260420T090444
CREATED:20250825T181609Z
LAST-MODIFIED:20250827T200543Z
UID:7451-1757030400-1757116799@ottawaguildofpotters.ca
SUMMARY:Newsletter Submission\, September
DESCRIPTION:
URL:https://ottawaguildofpotters.ca/event/monthly-newsletter-submission-september-2/
LOCATION:Via email to b.lapierre@bell.net
CATEGORIES:Newsletter Submission (Monthly)
END:VEVENT
BEGIN:VEVENT
DTSTART;TZID=America/Toronto:20250902T183000
DTEND;TZID=America/Toronto:20250902T210000
DTSTAMP:20260420T090444
CREATED:20250825T180712Z
LAST-MODIFIED:20250825T185115Z
UID:5954-1756837800-1756846800@ottawaguildofpotters.ca
SUMMARY:Monthly Executive Meeting\, September
DESCRIPTION:
URL:https://ottawaguildofpotters.ca/event/monthly-executive-meeting-september/
LOCATION:Zoom\, Virtual
CATEGORIES:Executive Meeting
END:VEVENT
BEGIN:VEVENT
DTSTART;TZID=America/Toronto:20250818T083000
DTEND;TZID=America/Toronto:20250826T120000
DTSTAMP:20260420T090444
CREATED:20250825T184736Z
LAST-MODIFIED:20250825T192940Z
UID:7456-1755505800-1756209600@ottawaguildofpotters.ca
SUMMARY:Celebrating Clay - Application
DESCRIPTION:
URL:https://ottawaguildofpotters.ca/event/celebrating-clay-application-open/
LOCATION:Online Application
CATEGORIES:Celebrating Clay Exhibition
END:VEVENT
END:VCALENDAR