BEGIN:VCALENDAR
VERSION:2.0
PRODID:-//Ottawa Guild of Potters - ECPv6.15.20//NONSGML v1.0//EN
CALSCALE:GREGORIAN
METHOD:PUBLISH
X-WR-CALNAME:Ottawa Guild of Potters
X-ORIGINAL-URL:https://ottawaguildofpotters.ca
X-WR-CALDESC:Events for Ottawa Guild of Potters
REFRESH-INTERVAL;VALUE=DURATION:PT1H
X-Robots-Tag:noindex
X-PUBLISHED-TTL:PT1H
BEGIN:VTIMEZONE
TZID:America/Toronto
BEGIN:DAYLIGHT
TZOFFSETFROM:-0500
TZOFFSETTO:-0400
TZNAME:EDT
DTSTART:20250309T070000
END:DAYLIGHT
BEGIN:STANDARD
TZOFFSETFROM:-0400
TZOFFSETTO:-0500
TZNAME:EST
DTSTART:20251102T060000
END:STANDARD
BEGIN:DAYLIGHT
TZOFFSETFROM:-0500
TZOFFSETTO:-0400
TZNAME:EDT
DTSTART:20260308T070000
END:DAYLIGHT
BEGIN:STANDARD
TZOFFSETFROM:-0400
TZOFFSETTO:-0500
TZNAME:EST
DTSTART:20261101T060000
END:STANDARD
BEGIN:DAYLIGHT
TZOFFSETFROM:-0500
TZOFFSETTO:-0400
TZNAME:EDT
DTSTART:20270314T070000
END:DAYLIGHT
BEGIN:STANDARD
TZOFFSETFROM:-0400
TZOFFSETTO:-0500
TZNAME:EST
DTSTART:20271107T060000
END:STANDARD
END:VTIMEZONE
BEGIN:VEVENT
DTSTART;TZID=America/Toronto:20260106T183000
DTEND;TZID=America/Toronto:20260106T210000
DTSTAMP:20260420T044713
CREATED:20250825T191648Z
LAST-MODIFIED:20250825T191648Z
UID:7476-1767724200-1767733200@ottawaguildofpotters.ca
SUMMARY:Monthly Executive Meeting\, January
DESCRIPTION:
URL:https://ottawaguildofpotters.ca/event/monthly-executive-meeting-january/
LOCATION:Zoom\, Virtual
CATEGORIES:Executive Meeting
END:VEVENT
BEGIN:VEVENT
DTSTART;VALUE=DATE:20260109
DTEND;VALUE=DATE:20260110
DTSTAMP:20260420T044713
CREATED:20250825T191743Z
LAST-MODIFIED:20250827T200518Z
UID:7478-1767916800-1768003199@ottawaguildofpotters.ca
SUMMARY:Newsletter Submission\, January
DESCRIPTION:
URL:https://ottawaguildofpotters.ca/event/monthly-newsletter-submission-january/
LOCATION:Via email to b.lapierre@bell.net
CATEGORIES:Newsletter Submission (Monthly)
END:VEVENT
BEGIN:VEVENT
DTSTART;TZID=America/Toronto:20260114T183000
DTEND;TZID=America/Toronto:20260114T210000
DTSTAMP:20260420T044713
CREATED:20250825T191828Z
LAST-MODIFIED:20260127T160005Z
UID:7479-1768415400-1768424400@ottawaguildofpotters.ca
SUMMARY:Monthly General Meeting\, Zoom
DESCRIPTION:Monthly General Meeting\, January via ZOOM
URL:https://ottawaguildofpotters.ca/event/monthly-general-meeting-january/
LOCATION:Zoom\, Virtual
CATEGORIES:General Meeting
END:VEVENT
BEGIN:VEVENT
DTSTART;VALUE=DATE:20260128
DTEND;VALUE=DATE:20260212
DTSTAMP:20260420T044713
CREATED:20260127T163130Z
LAST-MODIFIED:20260130T173631Z
UID:11988-1769558400-1770854399@ottawaguildofpotters.ca
SUMMARY:Celebrating Clay March 2026 - Applications Open
DESCRIPTION:Celebrating Clay March 2026 – Applications Open
URL:https://ottawaguildofpotters.ca/event/celebrating-clay-march-2026-applications-open/
END:VEVENT
END:VCALENDAR