BEGIN:VCALENDAR
VERSION:2.0
PRODID:-//Ottawa Guild of Potters - ECPv6.15.20//NONSGML v1.0//EN
CALSCALE:GREGORIAN
METHOD:PUBLISH
X-WR-CALNAME:Ottawa Guild of Potters
X-ORIGINAL-URL:https://ottawaguildofpotters.ca
X-WR-CALDESC:Events for Ottawa Guild of Potters
REFRESH-INTERVAL;VALUE=DURATION:PT1H
X-Robots-Tag:noindex
X-PUBLISHED-TTL:PT1H
BEGIN:VTIMEZONE
TZID:America/Toronto
BEGIN:DAYLIGHT
TZOFFSETFROM:-0500
TZOFFSETTO:-0400
TZNAME:EDT
DTSTART:20250309T070000
END:DAYLIGHT
BEGIN:STANDARD
TZOFFSETFROM:-0400
TZOFFSETTO:-0500
TZNAME:EST
DTSTART:20251102T060000
END:STANDARD
BEGIN:DAYLIGHT
TZOFFSETFROM:-0500
TZOFFSETTO:-0400
TZNAME:EDT
DTSTART:20260308T070000
END:DAYLIGHT
BEGIN:STANDARD
TZOFFSETFROM:-0400
TZOFFSETTO:-0500
TZNAME:EST
DTSTART:20261101T060000
END:STANDARD
BEGIN:DAYLIGHT
TZOFFSETFROM:-0500
TZOFFSETTO:-0400
TZNAME:EDT
DTSTART:20270314T070000
END:DAYLIGHT
BEGIN:STANDARD
TZOFFSETFROM:-0400
TZOFFSETTO:-0500
TZNAME:EST
DTSTART:20271107T060000
END:STANDARD
END:VTIMEZONE
BEGIN:VEVENT
DTSTART;VALUE=DATE:20260303
DTEND;VALUE=DATE:20260304
DTSTAMP:20260420T010806
CREATED:20260211T151646Z
LAST-MODIFIED:20260211T151646Z
UID:12312-1772496000-1772582399@ottawaguildofpotters.ca
SUMMARY:Sarah Pike - Demonstration
DESCRIPTION:Sarah Pike will give two demonstrations at LOAM Clay Studio covering her techniques and tips on technical features of her pots.
URL:https://ottawaguildofpotters.ca/event/sarah-pike-demonstration/
LOCATION:Loam Studio\, Ottawa\, 131 Loretta Ave N\, Ottawa\, Ontario\, K1Y 2J7
END:VEVENT
BEGIN:VEVENT
DTSTART;TZID=America/Toronto:20260303T183000
DTEND;TZID=America/Toronto:20260303T210000
DTSTAMP:20260420T010806
CREATED:20260127T161508Z
LAST-MODIFIED:20260127T161508Z
UID:11967-1772562600-1772571600@ottawaguildofpotters.ca
SUMMARY:Monthly Executive Meeting\, March
DESCRIPTION:Monthly Executive Meeting\, March
URL:https://ottawaguildofpotters.ca/event/monthly-executive-meeting-march/
LOCATION:Zoom\, Virtual
CATEGORIES:Executive Meeting
END:VEVENT
BEGIN:VEVENT
DTSTART;TZID=America/Toronto:20260310T183000
DTEND;TZID=America/Toronto:20260310T210000
DTSTAMP:20260420T010806
CREATED:20260127T162358Z
LAST-MODIFIED:20260127T162358Z
UID:11975-1773167400-1773176400@ottawaguildofpotters.ca
SUMMARY:Monthly General Meeting\, Hintonburg Community Centre
DESCRIPTION:Monthly General Meeting\, Hintonburg Community Centre
URL:https://ottawaguildofpotters.ca/event/monthly-general-meeting-hintonburg-community-centre/
LOCATION:Hintonburg Community Centre\, Laroche Room\, 1064 Wellington Street\, Ottawa\, Ontario\, Canada
CATEGORIES:General Meeting
END:VEVENT
BEGIN:VEVENT
DTSTART;VALUE=DATE:20260314
DTEND;VALUE=DATE:20260315
DTSTAMP:20260420T010806
CREATED:20260211T150224Z
LAST-MODIFIED:20260211T150347Z
UID:12306-1773446400-1773532799@ottawaguildofpotters.ca
SUMMARY:Great Bowls of Fire 2026
DESCRIPTION:A fundraiser in support of the Ottawa Food Bank.\nGlebe Community Centre\n175 Third Ave\, Ottawa
URL:https://ottawaguildofpotters.ca/event/great-bowls-of-fire-2026/
END:VEVENT
BEGIN:VEVENT
DTSTART;VALUE=DATE:20260316
DTEND;VALUE=DATE:20260330
DTSTAMP:20260420T010806
CREATED:20260127T163651Z
LAST-MODIFIED:20260127T201001Z
UID:11992-1773619200-1774828799@ottawaguildofpotters.ca
SUMMARY:Celebrating Clay March 2026 Group Exhibition at Scrim's Florist
DESCRIPTION:Celebrating Clay March 2026 Group Exhibition at Scrim’s Florist\nLocation Address: 262 Elgin Street\, Ottawa\, ON
URL:https://ottawaguildofpotters.ca/event/celebrating-clay-march-2026-exhibition-opens-at-scrims-florist/
END:VEVENT
BEGIN:VEVENT
DTSTART;TZID=America/Toronto:20260328T100000
DTEND;TZID=America/Toronto:20260329T170000
DTSTAMP:20260420T010806
CREATED:20250825T180348Z
LAST-MODIFIED:20260211T150710Z
UID:7439-1774692000-1774803600@ottawaguildofpotters.ca
SUMMARY:Joan Bruneau - Throwing and Altering Forms.
DESCRIPTION:TBD
URL:https://ottawaguildofpotters.ca/event/joan-bruneau-throwing-and-altering-forms/
LOCATION:Loam Studio\, Ottawa\, 131 Loretta Ave N\, Ottawa\, Ontario\, K1Y 2J7
CATEGORIES:Workshop
END:VEVENT
END:VCALENDAR