BEGIN:VCALENDAR
VERSION:2.0
PRODID:-//Ottawa Guild of Potters - ECPv6.15.20//NONSGML v1.0//EN
CALSCALE:GREGORIAN
METHOD:PUBLISH
X-WR-CALNAME:Ottawa Guild of Potters
X-ORIGINAL-URL:https://ottawaguildofpotters.ca
X-WR-CALDESC:Events for Ottawa Guild of Potters
REFRESH-INTERVAL;VALUE=DURATION:PT1H
X-Robots-Tag:noindex
X-PUBLISHED-TTL:PT1H
BEGIN:VTIMEZONE
TZID:America/Toronto
BEGIN:DAYLIGHT
TZOFFSETFROM:-0500
TZOFFSETTO:-0400
TZNAME:EDT
DTSTART:20250309T070000
END:DAYLIGHT
BEGIN:STANDARD
TZOFFSETFROM:-0400
TZOFFSETTO:-0500
TZNAME:EST
DTSTART:20251102T060000
END:STANDARD
BEGIN:DAYLIGHT
TZOFFSETFROM:-0500
TZOFFSETTO:-0400
TZNAME:EDT
DTSTART:20260308T070000
END:DAYLIGHT
BEGIN:STANDARD
TZOFFSETFROM:-0400
TZOFFSETTO:-0500
TZNAME:EST
DTSTART:20261101T060000
END:STANDARD
BEGIN:DAYLIGHT
TZOFFSETFROM:-0500
TZOFFSETTO:-0400
TZNAME:EDT
DTSTART:20270314T070000
END:DAYLIGHT
BEGIN:STANDARD
TZOFFSETFROM:-0400
TZOFFSETTO:-0500
TZNAME:EST
DTSTART:20271107T060000
END:STANDARD
END:VTIMEZONE
BEGIN:VEVENT
DTSTART;VALUE=DATE:20260501
DTEND;VALUE=DATE:20260504
DTSTAMP:20260420T024107
CREATED:20260127T164331Z
LAST-MODIFIED:20260127T164408Z
UID:12001-1777593600-1777852799@ottawaguildofpotters.ca
SUMMARY:Clay Festival/Annual Juried Exhibition
DESCRIPTION:Clay Festival/Annual Juried Exhibition
URL:https://ottawaguildofpotters.ca/event/clay-festival-annual-juried-exhibition-opens/
END:VEVENT
BEGIN:VEVENT
DTSTART;VALUE=DATE:20260501
DTEND;VALUE=DATE:20260504
DTSTAMP:20260420T024107
CREATED:20260127T164526Z
LAST-MODIFIED:20260127T164701Z
UID:12004-1777593600-1777852799@ottawaguildofpotters.ca
SUMMARY:Ottawa Guild of Potters - SPRING Pottery Sale
DESCRIPTION:Ottawa Guild of Potters – SPRING Pottery Sale
URL:https://ottawaguildofpotters.ca/event/ottawa-guild-of-potters-spring-sale/
END:VEVENT
BEGIN:VEVENT
DTSTART;TZID=America/Toronto:20260505T183000
DTEND;TZID=America/Toronto:20260505T210000
DTSTAMP:20260420T024107
CREATED:20260127T161817Z
LAST-MODIFIED:20260127T161817Z
UID:11971-1778005800-1778014800@ottawaguildofpotters.ca
SUMMARY:Monthly Executive Meeting\, May
DESCRIPTION:Monthly Executive Meeting\, May
URL:https://ottawaguildofpotters.ca/event/monthly-executive-meeting-may/
LOCATION:Zoom\, Virtual
CATEGORIES:Executive Meeting
END:VEVENT
BEGIN:VEVENT
DTSTART;TZID=America/Toronto:20260512T183000
DTEND;TZID=America/Toronto:20260512T210000
DTSTAMP:20260420T024107
CREATED:20260127T162635Z
LAST-MODIFIED:20260127T162712Z
UID:11980-1778610600-1778619600@ottawaguildofpotters.ca
SUMMARY:Monthly General Meeting\, Hintonburg Community Centre
DESCRIPTION:Monthly General Meeting\, Hintonburg Community Centre
URL:https://ottawaguildofpotters.ca/event/monthly-general-meeting-hintonburg-community-centre-3/
LOCATION:Hintonburg Community Centre\, Laroche Room\, 1064 Wellington Street\, Ottawa\, Ontario\, Canada
CATEGORIES:General Meeting
END:VEVENT
END:VCALENDAR